BEGIN:VCALENDAR
VERSION:2.0
PRODID:-//Intand Corporation//Tandem//EN
METHOD:PUBLISH
BEGIN:VEVENT
DTSTAMP:20260424T153646Z
DTSTART:20220404T213000Z
DTEND:20220404T230000Z
TRANSP:TRANSPARENT
PRIORITY:0
SUMMARY:Tennis\, Girls Bosque at Valley
LOCATION:Valley High
DESCRIPTION:Groups:\nValley High Tennis Girls Varsity\n\nSchools:\nValley 
 High\nBosque School\n\nLocation:\nValley High\n\n
URL;VALUE=URI:https://albuquerquenmus.tandem.co/index.php?type=view&action
 =event&id=100198
CREATED:20220125T170537Z
LAST-MODIFIED:20220125T170626Z
UID:event-100198-albuquerquenmus@intand.com
END:VEVENT
END:VCALENDAR
