BEGIN:VCALENDAR
VERSION:2.0
PRODID:-//Intand Corporation//Tandem//EN
METHOD:PUBLISH
BEGIN:VEVENT
DTSTAMP:20260424T152451Z
DTSTART:20200312T220000Z
DTEND:20200313T013000Z
TRANSP:TRANSPARENT
PRIORITY:0
SUMMARY:[Cancelled] Track\, JV-B: @ Wilson (Host A: MHS\, Host B: VVHS\, H
 ost C: EHS)
LOCATION:Wilson Stadium
DESCRIPTION:Host A: MHS\, Host B: VVHS\, Host C: EHS\n\nGroups:\nWest Mesa
  High Track JV Boys\nVolcano Vista High Track JV Boys\nStadium Use\nManzan
 o High Track JV Boys\nLa Cueva High Track JV Boys\nEldorado High Track Boy
 s JV\nDel Norte High Track Boys JV\nAtrisco Heritage Academy Track Boys JV
 \n\nSchools:\nAPS Athletic Department\nAtrisco Heritage Academy\nLa Cueva 
 High\nEldorado High\nManzano High\nWest Mesa High\nVolcano Vista High\nDel
  Norte High\n\nLocation:\nWilson Stadium\n\n
X-ALT-DESC;FMTTYPE=text/html:<!doctype html><html><body>Host A: MHS\, Host
  B: VVHS\, Host C: EHS<br /><br />Groups:<br />West Mesa High Track JV Boy
 s<br />Volcano Vista High Track JV Boys<br />Stadium Use<br />Manzano High
  Track JV Boys<br />La Cueva High Track JV Boys<br />Eldorado High Track B
 oys JV<br />Del Norte High Track Boys JV<br />Atrisco Heritage Academy Tra
 ck Boys JV<br /><br />Schools:<br />APS Athletic Department<br />Atrisco H
 eritage Academy<br />La Cueva High<br />Eldorado High<br />Manzano High<br
  />West Mesa High<br />Volcano Vista High<br />Del Norte High<br /><br />L
 ocation:<br />Wilson Stadium<br />Attachments:<br /><a href="https://albuq
 uerquenmus.tandem.co/index.php?type=export&action=file&id=3615">Junior Var
 sity Track & Field Meet Format (Final).pdf</a><br /><a href="https://albuq
 uerquenmus.tandem.co/index.php?type=export&action=file&id=3616">Junior Var
 sity Track & Field Meet Hosting (Final).pdf</a><br /><a href="https://albu
 querquenmus.tandem.co/index.php?type=export&action=file&id=3681">APS 3-12-
 20 JV Boys @ Wilson Heat Sheet Packet.pdf</a><br /></body></html>
URL;VALUE=URI:https://albuquerquenmus.tandem.co/index.php?type=view&action
 =event&id=90268
CREATED:20200205T170650Z
LAST-MODIFIED:20200312T204238Z
UID:event-90268-albuquerquenmus@intand.com
END:VEVENT
END:VCALENDAR
