BEGIN:VCALENDAR
VERSION:2.0
PRODID:-//Intand Corporation//Tandem//EN
METHOD:PUBLISH
BEGIN:VEVENT
DTSTAMP:20260424T153448Z
DTSTART:20220322T213000Z
DTEND:20220323T013000Z
TRANSP:TRANSPARENT
PRIORITY:0
SUMMARY:[Cancelled] Tennis\, Varsity-B: EHS @ AHS
LOCATION:Albuquerque High
DESCRIPTION:Groups:\nAlbuquerque High Tennis Boys\nEldorado High Tennis Bo
 ys\n\nSchools:\nAlbuquerque High\nEldorado High\n\nLocation:\nAlbuquerque 
 High\n\n
URL;VALUE=URI:https://albuquerquenmus.tandem.co/index.php?type=view&action
 =event&id=99685
CREATED:20220119T150754Z
LAST-MODIFIED:20220215T214609Z
UID:event-99685-albuquerquenmus@intand.com
END:VEVENT
END:VCALENDAR
