BEGIN:VCALENDAR
VERSION:2.0
PRODID:-//Intand Corporation//Tandem//EN
METHOD:PUBLISH
BEGIN:VEVENT
DTSTAMP:20260424T152425Z
DTSTART:20220401T213000Z
DTEND:20220402T013000Z
TRANSP:TRANSPARENT
PRIORITY:0
SUMMARY:Tennis\, Varsity-B: Cleveland HS @ CHS
LOCATION:Cibola High
DESCRIPTION:Groups:\nCibola High Tennis Boys\n\nSchools:\nV Sue Cleveland 
 High School\nCibola High\n\nLocation:\nCibola High\n\n
URL;VALUE=URI:https://albuquerquenmus.tandem.co/index.php?type=view&action
 =event&id=99713
CREATED:20220119T153025Z
LAST-MODIFIED:20220119T153025Z
UID:event-99713-albuquerquenmus@intand.com
END:VEVENT
END:VCALENDAR
