BEGIN:VCALENDAR
VERSION:2.0
PRODID:-//Intand Corporation//Tandem//EN
METHOD:PUBLISH
BEGIN:VEVENT
DTSTAMP:20260424T153451Z
DTSTART:20220416T160000Z
DTEND:20220416T200000Z
TRANSP:TRANSPARENT
PRIORITY:0
SUMMARY:Tennis\, Varsity-G: EHS @ Farmington & Piedra Vista
LOCATION:Farmington Tennis Complex
DESCRIPTION:Groups:\nEldorado High Tennis Girls\n\nSchools:\nEldorado High
 \nFarmington High\nPiedra Vista High\n\nLocation:\nFarmington Tennis Compl
 ex\n\n
URL;VALUE=URI:https://albuquerquenmus.tandem.co/index.php?type=view&action
 =event&id=99835
CREATED:20220120T160622Z
LAST-MODIFIED:20220120T160622Z
UID:event-99835-albuquerquenmus@intand.com
END:VEVENT
END:VCALENDAR
