BEGIN:VCALENDAR
VERSION:2.0
PRODID:-//Intand Corporation//Tandem//EN
METHOD:PUBLISH
BEGIN:VEVENT
DTSTAMP:20260424T153811Z
DTSTART:20220405T213000Z
DTEND:20220406T013000Z
TRANSP:TRANSPARENT
PRIORITY:0
SUMMARY:[Cancelled] Tennis\, Varsity-G: LCHS @ WMHS
LOCATION:West Mesa High
DESCRIPTION:Groups:\nLa Cueva High Tennis Girls Varsity\nWest Mesa High Te
 nnis Girls Varsity\n\nSchools:\nLa Cueva High\nWest Mesa High\n\nLocation:
 \nWest Mesa High\n\n
URL;VALUE=URI:https://albuquerquenmus.tandem.co/index.php?type=view&action
 =event&id=99850
CREATED:20220120T162917Z
LAST-MODIFIED:20220303T203907Z
UID:event-99850-albuquerquenmus@intand.com
END:VEVENT
END:VCALENDAR
